BEGIN:VCALENDAR
VERSION:2.0
PRODID:-//Echo Hills Golf Course - Echo, OR - ECPv6.15.20//NONSGML v1.0//EN
CALSCALE:GREGORIAN
METHOD:PUBLISH
X-ORIGINAL-URL:https://echohillsgolfcourse.com
X-WR-CALDESC:Events for Echo Hills Golf Course - Echo, OR
REFRESH-INTERVAL;VALUE=DURATION:PT1H
X-Robots-Tag:noindex
X-PUBLISHED-TTL:PT1H
BEGIN:VTIMEZONE
TZID:America/Los_Angeles
BEGIN:DAYLIGHT
TZOFFSETFROM:-0800
TZOFFSETTO:-0700
TZNAME:PDT
DTSTART:20240310T100000
END:DAYLIGHT
BEGIN:STANDARD
TZOFFSETFROM:-0700
TZOFFSETTO:-0800
TZNAME:PST
DTSTART:20241103T090000
END:STANDARD
BEGIN:DAYLIGHT
TZOFFSETFROM:-0800
TZOFFSETTO:-0700
TZNAME:PDT
DTSTART:20250309T100000
END:DAYLIGHT
BEGIN:STANDARD
TZOFFSETFROM:-0700
TZOFFSETTO:-0800
TZNAME:PST
DTSTART:20251102T090000
END:STANDARD
BEGIN:DAYLIGHT
TZOFFSETFROM:-0800
TZOFFSETTO:-0700
TZNAME:PDT
DTSTART:20260308T100000
END:DAYLIGHT
BEGIN:STANDARD
TZOFFSETFROM:-0700
TZOFFSETTO:-0800
TZNAME:PST
DTSTART:20261101T090000
END:STANDARD
BEGIN:DAYLIGHT
TZOFFSETFROM:-0800
TZOFFSETTO:-0700
TZNAME:PDT
DTSTART:20270314T100000
END:DAYLIGHT
BEGIN:STANDARD
TZOFFSETFROM:-0700
TZOFFSETTO:-0800
TZNAME:PST
DTSTART:20271107T090000
END:STANDARD
END:VTIMEZONE
BEGIN:VEVENT
DTSTART;TZID=America/Los_Angeles:20251221T090000
DTEND;TZID=America/Los_Angeles:20251221T150000
DTSTAMP:20260419T143042
CREATED:20251211T170051Z
LAST-MODIFIED:20251211T170053Z
UID:10000075-1766307600-1766329200@echohillsgolfcourse.com
SUMMARY:Open
DESCRIPTION:
URL:https://echohillsgolfcourse.com/event/open-9/
END:VEVENT
BEGIN:VEVENT
DTSTART;TZID=America/Los_Angeles:20251222T090000
DTEND;TZID=America/Los_Angeles:20251222T150000
DTSTAMP:20260419T143042
CREATED:20251211T170118Z
LAST-MODIFIED:20251211T170120Z
UID:10000076-1766394000-1766415600@echohillsgolfcourse.com
SUMMARY:Open
DESCRIPTION:
URL:https://echohillsgolfcourse.com/event/open-10/
END:VEVENT
BEGIN:VEVENT
DTSTART;TZID=America/Los_Angeles:20251223T090000
DTEND;TZID=America/Los_Angeles:20251223T150000
DTSTAMP:20260419T143042
CREATED:20251211T170145Z
LAST-MODIFIED:20251211T170147Z
UID:10000077-1766480400-1766502000@echohillsgolfcourse.com
SUMMARY:Open
DESCRIPTION:
URL:https://echohillsgolfcourse.com/event/open-11/
END:VEVENT
BEGIN:VEVENT
DTSTART;TZID=America/Los_Angeles:20251224T080000
DTEND;TZID=America/Los_Angeles:20251224T170000
DTSTAMP:20260419T143042
CREATED:20251211T170215Z
LAST-MODIFIED:20251211T170216Z
UID:10000078-1766563200-1766595600@echohillsgolfcourse.com
SUMMARY:Closed
DESCRIPTION:
URL:https://echohillsgolfcourse.com/event/closed-13/
END:VEVENT
BEGIN:VEVENT
DTSTART;TZID=America/Los_Angeles:20251225T080000
DTEND;TZID=America/Los_Angeles:20251225T170000
DTSTAMP:20260419T143042
CREATED:20251204T200444Z
LAST-MODIFIED:20251204T200447Z
UID:10000065-1766649600-1766682000@echohillsgolfcourse.com
SUMMARY:Closed - Merry Christmas!
DESCRIPTION:
URL:https://echohillsgolfcourse.com/event/closed-merry-christmas/
END:VEVENT
BEGIN:VEVENT
DTSTART;TZID=America/Los_Angeles:20251226T090000
DTEND;TZID=America/Los_Angeles:20251226T150000
DTSTAMP:20260419T143042
CREATED:20251211T170247Z
LAST-MODIFIED:20251211T170248Z
UID:10000079-1766739600-1766761200@echohillsgolfcourse.com
SUMMARY:Open
DESCRIPTION:
URL:https://echohillsgolfcourse.com/event/open-12/
END:VEVENT
BEGIN:VEVENT
DTSTART;TZID=America/Los_Angeles:20251227T090000
DTEND;TZID=America/Los_Angeles:20251227T150000
DTSTAMP:20260419T143042
CREATED:20251211T170317Z
LAST-MODIFIED:20251211T170319Z
UID:10000080-1766826000-1766847600@echohillsgolfcourse.com
SUMMARY:Open
DESCRIPTION:
URL:https://echohillsgolfcourse.com/event/open-13/
END:VEVENT
BEGIN:VEVENT
DTSTART;TZID=America/Los_Angeles:20251228T090000
DTEND;TZID=America/Los_Angeles:20251228T150000
DTSTAMP:20260419T143042
CREATED:20251211T170354Z
LAST-MODIFIED:20251211T170355Z
UID:10000081-1766912400-1766934000@echohillsgolfcourse.com
SUMMARY:Open
DESCRIPTION:
URL:https://echohillsgolfcourse.com/event/open-14/
END:VEVENT
BEGIN:VEVENT
DTSTART;TZID=America/Los_Angeles:20251229T090000
DTEND;TZID=America/Los_Angeles:20251229T150000
DTSTAMP:20260419T143042
CREATED:20251211T170418Z
LAST-MODIFIED:20251211T170419Z
UID:10000082-1766998800-1767020400@echohillsgolfcourse.com
SUMMARY:Open
DESCRIPTION:
URL:https://echohillsgolfcourse.com/event/open-15/
END:VEVENT
BEGIN:VEVENT
DTSTART;TZID=America/Los_Angeles:20251230T090000
DTEND;TZID=America/Los_Angeles:20251230T150000
DTSTAMP:20260419T143042
CREATED:20251211T170445Z
LAST-MODIFIED:20251211T170446Z
UID:10000083-1767085200-1767106800@echohillsgolfcourse.com
SUMMARY:Open
DESCRIPTION:
URL:https://echohillsgolfcourse.com/event/open-16/
END:VEVENT
BEGIN:VEVENT
DTSTART;TZID=America/Los_Angeles:20251231T080000
DTEND;TZID=America/Los_Angeles:20251231T160000
DTSTAMP:20260419T143042
CREATED:20251211T170526Z
LAST-MODIFIED:20251211T170527Z
UID:10000084-1767168000-1767196800@echohillsgolfcourse.com
SUMMARY:Open
DESCRIPTION:
URL:https://echohillsgolfcourse.com/event/open-17/
END:VEVENT
BEGIN:VEVENT
DTSTART;TZID=America/Los_Angeles:20260101T080000
DTEND;TZID=America/Los_Angeles:20260101T170000
DTSTAMP:20260419T143042
CREATED:20251211T170554Z
LAST-MODIFIED:20251211T170556Z
UID:10000085-1767254400-1767286800@echohillsgolfcourse.com
SUMMARY:Closed - Happy New Year
DESCRIPTION:
URL:https://echohillsgolfcourse.com/event/closed-happy-new-year/
END:VEVENT
BEGIN:VEVENT
DTSTART;TZID=America/Los_Angeles:20260105T080000
DTEND;TZID=America/Los_Angeles:20260106T170000
DTSTAMP:20260419T143042
CREATED:20260102T220931Z
LAST-MODIFIED:20260102T220934Z
UID:10000088-1767600000-1767718800@echohillsgolfcourse.com
SUMMARY:Closed
DESCRIPTION:
URL:https://echohillsgolfcourse.com/event/closed-14/
END:VEVENT
BEGIN:VEVENT
DTSTART;TZID=America/Los_Angeles:20260111T000000
DTEND;TZID=America/Los_Angeles:20260111T235959
DTSTAMP:20260419T143042
CREATED:20260102T220611Z
LAST-MODIFIED:20260109T191244Z
UID:10000087-1768089600-1768175999@echohillsgolfcourse.com
SUMMARY:Par 3 Tournament
DESCRIPTION:All holes will be Par 3! You may be teeing off from the fairway\, the driving range\, or in the trees! $30 members or $40 non-members. 18 holes.
URL:https://echohillsgolfcourse.com/event/par-3-tournament/
END:VEVENT
BEGIN:VEVENT
DTSTART;TZID=America/Los_Angeles:20260112T080000
DTEND;TZID=America/Los_Angeles:20260113T170000
DTSTAMP:20260419T143042
CREATED:20260102T221027Z
LAST-MODIFIED:20260102T221030Z
UID:10000089-1768204800-1768323600@echohillsgolfcourse.com
SUMMARY:Closed
DESCRIPTION:
URL:https://echohillsgolfcourse.com/event/closed-15/
END:VEVENT
BEGIN:VEVENT
DTSTART;TZID=America/Los_Angeles:20260119T080000
DTEND;TZID=America/Los_Angeles:20260120T170000
DTSTAMP:20260419T143042
CREATED:20260102T221103Z
LAST-MODIFIED:20260102T221105Z
UID:10000090-1768809600-1768928400@echohillsgolfcourse.com
SUMMARY:Closed
DESCRIPTION:
URL:https://echohillsgolfcourse.com/event/closed-16/
END:VEVENT
BEGIN:VEVENT
DTSTART;TZID=America/Los_Angeles:20260126T080000
DTEND;TZID=America/Los_Angeles:20260127T170000
DTSTAMP:20260419T143042
CREATED:20260102T221136Z
LAST-MODIFIED:20260102T221139Z
UID:10000091-1769414400-1769533200@echohillsgolfcourse.com
SUMMARY:Closed
DESCRIPTION:
URL:https://echohillsgolfcourse.com/event/closed-17/
END:VEVENT
BEGIN:VEVENT
DTSTART;TZID=America/Los_Angeles:20260215T080000
DTEND;TZID=America/Los_Angeles:20260215T150000
DTSTAMP:20260419T143042
CREATED:20260417T183602Z
LAST-MODIFIED:20260417T183607Z
UID:10000094-1771142400-1771167600@echohillsgolfcourse.com
SUMMARY:Cross Country Tournament
DESCRIPTION:
URL:https://echohillsgolfcourse.com/event/cross-country-tournament/
END:VEVENT
BEGIN:VEVENT
DTSTART;TZID=America/Los_Angeles:20260228T080000
DTEND;TZID=America/Los_Angeles:20260228T170000
DTSTAMP:20260419T143042
CREATED:20251204T200626Z
LAST-MODIFIED:20251204T200630Z
UID:10000066-1772265600-1772298000@echohillsgolfcourse.com
SUMMARY:Membership & Cart Shed Fees due
DESCRIPTION:
URL:https://echohillsgolfcourse.com/event/membership-cart-shed-fees-due/
END:VEVENT
BEGIN:VEVENT
DTSTART;TZID=America/Los_Angeles:20260315T080000
DTEND;TZID=America/Los_Angeles:20260315T150000
DTSTAMP:20260419T143042
CREATED:20260417T183655Z
LAST-MODIFIED:20260417T183659Z
UID:10000095-1773561600-1773586800@echohillsgolfcourse.com
SUMMARY:3 Clubs & A Putter Challenge
DESCRIPTION:
URL:https://echohillsgolfcourse.com/event/3-clubs-a-putter-challenge/
END:VEVENT
BEGIN:VEVENT
DTSTART;TZID=America/Los_Angeles:20260320T100000
DTEND;TZID=America/Los_Angeles:20260320T160000
DTSTAMP:20260419T143042
CREATED:20251211T173027Z
LAST-MODIFIED:20251211T173029Z
UID:10000086-1774000800-1774022400@echohillsgolfcourse.com
SUMMARY:High School Tournament
DESCRIPTION:
URL:https://echohillsgolfcourse.com/event/high-school-tournament/
END:VEVENT
BEGIN:VEVENT
DTSTART;TZID=America/Los_Angeles:20260402T000000
DTEND;TZID=America/Los_Angeles:20260402T235959
DTSTAMP:20260419T143042
CREATED:20260417T183736Z
LAST-MODIFIED:20260417T183739Z
UID:10000096-1775088000-1775174399@echohillsgolfcourse.com
SUMMARY:Course Closed - Aeration
DESCRIPTION:
URL:https://echohillsgolfcourse.com/event/course-closed-aeration/
END:VEVENT
BEGIN:VEVENT
DTSTART;TZID=America/Los_Angeles:20260410T070000
DTEND;TZID=America/Los_Angeles:20260410T150000
DTSTAMP:20260419T143042
CREATED:20260417T183238Z
LAST-MODIFIED:20260417T183241Z
UID:10000092-1775804400-1775833200@echohillsgolfcourse.com
SUMMARY:Varsity HS Tournament
DESCRIPTION:
URL:https://echohillsgolfcourse.com/event/varsity-hs-tournament/
END:VEVENT
BEGIN:VEVENT
DTSTART;TZID=America/Los_Angeles:20260412T080000
DTEND;TZID=America/Los_Angeles:20260412T150000
DTSTAMP:20260419T143042
CREATED:20260417T183344Z
LAST-MODIFIED:20260417T183346Z
UID:10000093-1775980800-1776006000@echohillsgolfcourse.com
SUMMARY:Mulligan Tournament
DESCRIPTION:
URL:https://echohillsgolfcourse.com/event/mulligan-tournament-2/
END:VEVENT
BEGIN:VEVENT
DTSTART;TZID=America/Los_Angeles:20260420T110000
DTEND;TZID=America/Los_Angeles:20260420T160000
DTSTAMP:20260419T143042
CREATED:20260417T183848Z
LAST-MODIFIED:20260417T183850Z
UID:10000097-1776682800-1776700800@echohillsgolfcourse.com
SUMMARY:JV HS Tournament
DESCRIPTION:
URL:https://echohillsgolfcourse.com/event/jv-hs-tournament-4/
END:VEVENT
BEGIN:VEVENT
DTSTART;TZID=America/Los_Angeles:20260430T070000
DTEND;TZID=America/Los_Angeles:20260430T150000
DTSTAMP:20260419T143042
CREATED:20260417T183934Z
LAST-MODIFIED:20260417T183936Z
UID:10000098-1777532400-1777561200@echohillsgolfcourse.com
SUMMARY:Course Closed - Spraying
DESCRIPTION:
URL:https://echohillsgolfcourse.com/event/course-closed-spraying/
END:VEVENT
BEGIN:VEVENT
DTSTART;TZID=America/Los_Angeles:20260509T190000
DTEND;TZID=America/Los_Angeles:20260509T220000
DTSTAMP:20260419T143042
CREATED:20260417T184042Z
LAST-MODIFIED:20260417T184047Z
UID:10000099-1778353200-1778364000@echohillsgolfcourse.com
SUMMARY:Glow Golf
DESCRIPTION:
URL:https://echohillsgolfcourse.com/event/glow-golf/
END:VEVENT
BEGIN:VEVENT
DTSTART;TZID=America/Los_Angeles:20260516T070000
DTEND;TZID=America/Los_Angeles:20260516T150000
DTSTAMP:20260419T143042
CREATED:20260417T184146Z
LAST-MODIFIED:20260417T184149Z
UID:10000100-1778914800-1778943600@echohillsgolfcourse.com
SUMMARY:Umatilla County Rural Fire District #1
DESCRIPTION:
URL:https://echohillsgolfcourse.com/event/umatilla-county-rural-fire-district-1/
END:VEVENT
BEGIN:VEVENT
DTSTART;TZID=America/Los_Angeles:20260518T070000
DTEND;TZID=America/Los_Angeles:20260518T150000
DTSTAMP:20260419T143042
CREATED:20260417T184254Z
LAST-MODIFIED:20260417T184258Z
UID:10000101-1779087600-1779116400@echohillsgolfcourse.com
SUMMARY:Eastside Seniors
DESCRIPTION:
URL:https://echohillsgolfcourse.com/event/eastside-seniors-2/
END:VEVENT
BEGIN:VEVENT
DTSTART;TZID=America/Los_Angeles:20260530T070000
DTEND;TZID=America/Los_Angeles:20260530T150000
DTSTAMP:20260419T143042
CREATED:20260417T184351Z
LAST-MODIFIED:20260417T184354Z
UID:10000102-1780124400-1780153200@echohillsgolfcourse.com
SUMMARY:SRC Open
DESCRIPTION:
URL:https://echohillsgolfcourse.com/event/src-open/
END:VEVENT
END:VCALENDAR